Workbook

Sheet 1차평가자료(표지)
C3: [ 작성 및 제출요령 ]
C4: 1. | D4: 표지를 포함한 모든 Sheet를 서면으로 제출할 것
C5: 2. | D5: 반드시 파란색 음영처리된 곳만 작성할 것
C6: 3. | D6: 서면으로 제출시 기 인쇄영역으로 설정된 <제출시 인쇄영역>으로 설정된 부분에 한하여 출력하여 제출
B9: < 제출 시 인쇄 영역>
G14: 지원유형 : | H14: 해외채권형
D17: 중소기업퇴직연금기금 개별운용사 유니버스 선정을 위한
D19: 1차 평가 자료
D30: 2026. 10
D37: 회사명 :

Sheet 0.운용자료 작성방법
I1: 운용자료 작성방법
B3: 1. 지원유형 및 대상펀드
C6: 1) | D6: 제출대상펀드
D7: ▶ Bloomberg Barclays Global Aggregate(환노출)를 벤치마크로 하거나, 합성BM인 경우 Bloomberg Barclays Global Aggregate(환노출)이 80% 이상이며, 운용펀드 기준 평균 순자산 10억원 이상
D8: ▶ 재간접으로 운용되는 공·사모 펀드 및 일임자산에 한함
C10: 2) | D10: 참고사항
D11: ▶ 제외펀드 : 매칭형펀드, 절대수익형펀드, 하이일드펀드, 역외펀드, 패시브 펀드, OEM펀드, 구조화펀드, ELF
D12: ▶ 종류형펀드(클래스펀드)인 경우 클래스펀드가 성과측정의 대상이 됨. 다만, 순자산총액 기준은 클래스운용펀드 기준을 적용
D13: ▶ 사모펀드 및 일임자산의 경우 운용자료 및 BM제출에 대한 수익자 동의를 반드시 받은 후 제출
B16: 2. 제출자료 내역 및 작성방법
B18: 제출자료 | E18: 작성방법 | O18: 작성자
C19: 1) | D19: 대상펀드리스트 | E19: ▶ 지원대상 펀드에 해당되는 리스트를 [3.대상펀드리스트 Sheet]에 작성 | O19: 운용사
E20: ▶ 수익자 미동의 펀드도 반드시 포함되어야 하며, 수익자 미동의 여부를 비고란에 표기
E21: ▶ 대상펀드리스트 및 텍스트파일 작성 시 포트폴리오 구성확인을 위해 모펀드 및 클래스운용펀드도 함께 제출
E22: ▶ 작성방법은 [3.대상펀드리스트 Sheet] 참고
C23: 2) | D23: 약관 및 계약서 | E23: ▶ 모든 제출펀드에 대해 편입비 등 운용지침과 BM을 확인할 수 있는 약관 또는 계약서 파일 송부 | O23: 운용사
E24: ▶ 파일명은 [6.벤치마크확인서 Sheet]의 순번을 참조하여 "순번_펀드코드_펀드명"으로 작성
E25: ▶ 약관 및 계약서 상 BM확인이 되지 않는 경우, BM제출에 대한 수익자 확인서 혹은 벤치마크확인서 반드시 제출
E26: (투자풀 및 전담운용기관의 개별(하위)펀드인 경우 주간사 확인서 가능)
C27: 3) | D27: 텍스트파일 | E27: ▶ 펀드의 일별 운용데이터를 텍스트파일로 제출 | O27: 일반사무관리회사
E28: ▶ 모펀드 및 클래스운용펀드도 포함해서 제출
E29: ▶ 작성방법은 [4.운용데이터파일 Sheet] 참고

Sheet 1.공동이력서
C4: [ 작성 및 제출요령 ]
C5: 1. | D5: 반드시 파란색 음영처리된 곳만 작성할 것
C6: 2. | D6: 본 자료의 작성기준일은 2026년 9월 30일임
C7: 3. | D7: 「공동이력서」에 포함되는 대상은 투자자산운용사(구 운용전문인력) 중 다음에 제시하는 기준에 적합한 인원에 한하여 기재(임시직, 시간제 근무자 제외)
D8: ※ 투자자산운용사 자격은 시험에 합격하고 협회에 등록이 된 인력에 해당함
D9: ※ 현재 해외채권형 집합투자기구 또는 일임자산을 운용하고 있는 인력으로 한정하며, 리서치, 애널리스트, 트레이더, 운용지원, RM(위험관리), 마케팅 인력 등은 제외
D10: ※ 복수 유형에 중복지원한 경우 1인의 운용인력을 2개의 유형에 중복기재할 수 없음
C11: 4. | D11: 업계경력'은 '개인이력서' SHEET 작성 시 자동 계산되므로 별도 입력 불필요
C12: 5. | D12: 해당 운용인력의 공동이력서의 순번과 개인이력서의 순번은 반드시 일치시킬 것
C13: 6. | D13: 중소기업퇴직연금기금 펀드를 담당할 운용역을 반드시 순번 1번에 기재
C14: 7. | D14: 열 및 셀에 대한 변경(삽입, 삭제, 위치변경 등)을 하지 말 것
B17: < 제출 시 인쇄 영역>
C18: 공동이력서
C20: 지원유형 | F20: 해외채권형
C22: 지원회사명
C24: 항목 | G24: 값
C25: 운용 인력 수 | G25: =COUNTA(C30:C91) -> 2
C26: 운용인력의 운용 경력 | G26: =SUM(H30:H91) -> 744.62466
C27: 운용 인력의 평균 운용 경력 | G27: =G26/G25 -> 372.31233
C29: 순번 | D29: 성명 | E29: 생년월일 | F29: 현재 부서명 | G29: 직위 | H29: 업계경력(개월)
C30: 1 | D30: 홍길동 | E30: 25530 | F30: 해외채권운용팀 | G30: 팀장 | H30: =SUMIF('2.개인이력서'!C:H,'1.공동이력서'!C:C,'2.개인이력서'!H:H) -> 372.29589
C31: 2 | D31: 김철수 | E31: 27789 | F31: 해외채권운용팀 | G31: 과장 | H31: =SUMIF('2.개인이력서'!C:H,'1.공동이력서'!C:C,'2.개인이력서'!H:H) -> 372.32877
H32: =SUMIF('2.개인이력서'!C:H,'1.공동이력서'!C:C,'2.개인이력서'!H:H) -> 0
H33: =SUMIF('2.개인이력서'!C:H,'1.공동이력서'!C:C,'2.개인이력서'!H:H) -> 0
H34: =SUMIF('2.개인이력서'!C:H,'1.공동이력서'!C:C,'2.개인이력서'!H:H) -> 0
H35: =SUMIF('2.개인이력서'!C:H,'1.공동이력서'!C:C,'2.개인이력서'!H:H) -> 0
H36: =SUMIF('2.개인이력서'!C:H,'1.공동이력서'!C:C,'2.개인이력서'!H:H) -> 0
H37: =SUMIF('2.개인이력서'!C:H,'1.공동이력서'!C:C,'2.개인이력서'!H:H) -> 0
H38: =SUMIF('2.개인이력서'!C:H,'1.공동이력서'!C:C,'2.개인이력서'!H:H) -> 0
H39: =SUMIF('2.개인이력서'!C:H,'1.공동이력서'!C:C,'2.개인이력서'!H:H) -> 0
H40: =SUMIF('2.개인이력서'!C:H,'1.공동이력서'!C:C,'2.개인이력서'!H:H) -> 0
H41: =SUMIF('2.개인이력서'!C:H,'1.공동이력서'!C:C,'2.개인이력서'!H:H) -> 0
H42: =SUMIF('2.개인이력서'!C:H,'1.공동이력서'!C:C,'2.개인이력서'!H:H) -> 0
H43: =SUMIF('2.개인이력서'!C:H,'1.공동이력서'!C:C,'2.개인이력서'!H:H) -> 0
... H90: =SUMIF('2.개인이력서'!C:H,'1.공동이력서'!C:C,'2.개인이력서'!H:H) -> 0

Sheet 2.개인이력서
C3: [ 작성 및 제출요령 ]
C4: 1. | D4: 반드시 파란색 음영처리된 곳만 작성할 것
C5: 2. | D5: 본 자료의 작성기준일은 2026년 9월 30일임
C6: 3. | D6: 「공동이력서」 sheet의 해당인력을 대상으로 작성
C7: 4. | D7: 대상 인력 경력 중 업계 경력은 다음의 해당 근무 경력만 인정
D8: ※ 자본시장법상 금융기관(자산운용, 은행, 증권, 보험) 및 연기금과 공공기관의 재직경력 중
D9: 해외채권 운용, 해외채권 리서치, 해외채권 트레이더 경력만 해당 (마케팅, 경영관리, 리스크관리 업무 경력은 제외)
C10: 5. | D10: 지원업체는 대상 운용인력의 경력을 증빙하기 위한 개인별 국민연금가입증명서를 제출
D11: ※ 국민연금가입증명서가 발급이 불가능한 인력은 경력증명서로 대체 가능
C12: 6. | D12: 회사구분은 자산운용, 투자자문, 은행, 증권, 보험, 연기금, 공공기관 중 택일하여 작성
C13: 7. | D13: 담당업무는 펀드운용, 투자분석, 트레이더 중 택일하여 작성
C14: 8. | D14: 해당 운용인력의 공동이력서의 순번과 개인이력서의 순번은 반드시 일치시킬 것
C15: 9. | D15: 열 및 셀에 대한 변경(삽입, 삭제, 위치변경 등)을 하지 말 것
B19: < 제출 시 인쇄 영역>
C20: 개인 이력서
D22: 지원유형 | F22: 해외채권형
D24: 지원회사
C26: 순번 | D26: 성명 | E26: 현부서명 | F26: 업계경력
F27: 근무기간 | I27: 회사구분 | J27: 회사명 | K27: 담당 업무
F28: FROM | G28: TO | H28: 근무 기간 (개월)
C29: 1 | D29: 홍길동 | F29: 45930 | G29: 46295 | H29: =(G29-F29+1)/(365/12) -> 12.032877 | I29: 자산운용 | J29: OO자산운용 | K29: 펀드운용
C30: =IF(D30=D29,C29,C29+1) -> 1 | D30: 홍길동 | F30: 42277 | G30: 45929 | H30: =(G30-F30+1)/(365/12) -> 120.09863 | I30: 자산운용 | J30: OO자산운용 | K30: 펀드운용
C31: =IF(D31=D30,C30,C30+1) -> 1 | D31: 홍길동 | F31: 38625 | G31: 42276 | H31: =(G31-F31+1)/(365/12) -> 120.06575 | I31: 자산운용 | J31: OO자산운용 | K31: 펀드운용
C32: =IF(D32=D31,C31,C31+1) -> 1 | D32: 홍길동 | F32: 34972 | G32: 38624 | H32: =(G32-F32+1)/(365/12) -> 120.09863 | I32: 증권 | J32: OOO증권 | K32: 펀드운용
C33: =IF(D33=D32,C32,C32+1) -> 2 | D33: 김철수 | F33: 45930 | G33: 46295 | H33: =(G33-F33+1)/(365/12) -> 12.032877 | I33: 증권 | J33: OOO증권 | K33: 펀드운용
C34: =IF(D34=D33,C33,C33+1) -> 2 | D34: 김철수 | F34: 42277 | G34: 45929 | H34: =(G34-F34+1)/(365/12) -> 120.09863 | I34: 증권 | J34: OOO증권 | K34: 펀드운용
C35: =IF(D35=D34,C34,C34+1) -> 2 | D35: 김철수 | F35: 38625 | G35: 42276 | H35: =(G35-F35+1)/(365/12) -> 120.06575 | I35: 자산운용 | J35: OO자산운용 | K35: 펀드운용
C36: =IF(D36=D35,C35,C35+1) -> 2 | D36: 김철수 | F36: 34972 | G36: 38624 | H36: =(G36-F36+1)/(365/12) -> 120.09863 | I36: 증권 | J36: OOO증권 | K36: 펀드운용
C37: =IF(D37=D36,C36,C36+1) -> 2 | D37: 김철수 | F37: 1 | G37: 1 | H37: =(G37-F37+1)/(365/12) -> 0.032876712
H38: =(G38-F38+1)/(365/12) -> 0.032876712
H39: =(G39-F39+1)/(365/12) -> 0.032876712
H40: =(G40-F40+1)/(365/12) -> 0.032876712
H41: =(G41-F41+1)/(365/12) -> 0.032876712
H42: =(G42-F42+1)/(365/12) -> 0.032876712
H43: =(G43-F43+1)/(365/12) -> 0.032876712
H44: =(G44-F44+1)/(365/12) -> 0.032876712
H45: =(G45-F45+1)/(365/12) -> 0.032876712
H46: =(G46-F46+1)/(365/12) -> 0.032876712
H47: =(G47-F47+1)/(365/12) -> 0.032876712
H48: =(G48-F48+1)/(365/12) -> 0.032876712
...

Sheet 3.대상펀드리스트
B1: 대상펀드리스트
B3: ▶ 0.운용자료 작성방법 SHEET에 명시된 제출대상펀드 요건에 부합하는 모든 펀드들을 작성
B4: ▶ 하단 항목별 상세설명에 따라 해당 유형요건에 부합하는 모든 펀드들을 대상으로 작성
B5: ▶ 수익자 동의여부와 관계없이 모든 펀드들을 대상으로 작성(단, 수익자 미동의인 경우 반드시 동의여부를 기재)
B6: ▶ 수익자 미동의인 경우 펀드명을 OO 등으로 대체하여 비공개해도 됨
B7: ▶ 타 운용기관으로부터 이관받은 펀드인 경우 비고란에 이관펀드임을 명시하고 이관직전의 기준가를 반드시 작성
B8: ▶ 공모 및 사모펀드인 경우 [펀드코드(표준코드)] 란에 반드시 12자리 KR표준코드를 입력
B9: ▶ 일임펀드의 펀드코드(표준코드)는 KRL(고정값) + 운용사(또는 자문사)(3자리) + '4'(유형코드1자리) + 00001(펀드별 고유 순번, 보유펀드가 100개이면 00001 ~ 00100 까지)
B10: ▶ 펀드코드(표준코드)는 대상펀드리스트와 텍스트파일의 펀드코드(표준코드)와 일치해야 함(일치하지 않는 경우 성과산정에서 제외됨)
B11: ▶ 모펀드와 클래스운용펀드에 대해서도 대상펀드리스트와 텍스트파일에 포함해서 작성 요망
B14: 지원유형 | C14: 유형코드 | D14: 운용사코드 | E14: 운용사명 | F14: 운용사 펀드코드 | G14: 펀드명 | H14: 펀드구분 | I14: 펀드코드 (표준코드) | J14: 수익자 동의여부 | K14: 설정일 (YYYY-MM-DD) | L14: 해지일 (YYYY-MM-DD) | M14: 평균설정액 (백만원) | N14: 평균순자산 (백만원) | O14: 주식형은 주식/채권형은 채권 평균 편입비중(%) | P14: BM명 | Q14: 사무관리회사 | R14: 운용펀드코드 | S14: 비고 | T14: 이관직전 기준가
B15: 해외채권형 | C15: 4 | D15: 000 | E15: 모모 | F15: 12EF6 | G15: 모모글로벌채권형모투자신탁 | H15: 공모 | I15: KR5000110000 | J15: Y | K15: 38965 | L15: 45838 | P15: Barclays Global Aggregate 100% | Q15: ㅁ ㅁ ㅁ | S15: 모펀드
B16: 해외채권형 | C16: 4 | D16: 000 | E16: 모모 | F16: 13SG5 | G16: 모모글로벌채권형자투자신탁 | H16: 공모 | I16: KR5000000000 | J16: Y | K16: 38965 | L16: 401768 | P16: Barclays Global Aggregate 100% | Q16: ㅁ ㅁ ㅁ | S16: 클래스운용펀드
B17: 해외채권형 | C17: 4 | D17: 000 | E17: 모모 | F17: 12235 | G17: 모모글로벌채권형자투자신탁 A클래스 | H17: 공모 | I17: KR5000000001 | J17: Y | K17: 38965 | L17: 401768 | P17: Barclays Global Aggregate 100% | Q17: ㅁ ㅁ ㅁ | R17: KR5789000000
B18: 해외채권형 | C18: 4 | D18: 000 | E18: 모모 | F18: 13SG4 | G18: 모모글로벌채권형사모투자신탁 | H18: 사모 | I18: KR5000000002 | J18: Y | K18: 38965 | L18: 401768 | P18: Barclays Global Aggregate 100% | Q18: ㅁ ㅁ ㅁ | S18: BM변경이력(증빙서류 참조)
B19: 해외채권형 | C19: 4 | D19: 000 | E19: 모모 | F19: 12254 | G19: 모모글로벌채권형일임 | H19: 일임 | I19: KRL000400001 | J19: N | K19: 38965 | L19: 46024 | P19: Barclays Global Aggregate 100% | Q19: ㅁ ㅁ ㅁ
B26: ※ 필독 : 항목별 상세 설명
B27: ▶ 지원유형 : 제출한 펀드들에 대해 지원유형의 요건에 적합한 유형을 표기
B28: ▶ 유형코드 : 일반채권형 '1', 액티브주식형 '2', 인덱스주식형 '3', 해외채권형 '4', 해외주식형 '5'
B29: ▶ 운용사코드 : 금융투자협회 3자리 운용회사 코드
B30: ▶ 운용사 펀드코드 : 운용사 자체관리 펀드코드
B31: - 운용사펀드코드가 '0'으로 시작하는 경우 빠짐 없이 표기
B32: ▶ 펀드 구분 : 공모/ 사모/ 일임 中 택1
B33: ▶ 펀드코드(표준코드) : 12자리 표준코드 기재(일임인 경우, 상단 일임펀드코드 작성 방법에 따라 기재하며 유형별 중복 기재 불가능)
B34: - 반드시 텍스트파일의 펀드코드(표준코드)와 일치해야 함(일치하지 않는 경우 성과산정에서 제외될 수 있음)
B35: ▶ 수익자동의여부 : 수익자동의 시 'Y'/ 미동의 시 'N'(공모펀드인 경우 수익자동의가 필요하지 않으므로 'Y'로 표기)
B36: - 수익자동의 여부는 Y/ N 中 택1(반드시 모든 필수정보에 대한 제공동의를 받은 경우에만' Y')
B37: ▶ 설정일, 해지일 : 펀드의 최초설정일 및 해지일을 반드시 'YYYY-MM-DD' 형식으로 작성(해지일이 없는 운용중인 펀드의 경우, 2999-12-31 기재)
... B45: ▶ 이관직전 기준가 : 이관일과 이관 직전일자 기준가 기재

Sheet 4.운용데이터파일
B1: 텍스트파일
B3: 1. 자료전송방법 : 한국펀드평가 홈페이지(www.kfr.co.kr) 운용사선정 게시판
B4: 2. 파일명 작성요령
C5: ▶ K + 운용사코드(3자리) + G + 4(유형코드1자리)
C6: 예) 교보자산운용 액티브주식형 텍스트파일의 경우 K207G2, 해외채권형 텍스트파일의 경우 K207G4
B7: 3. 데이터요청기간
C8: ▶ 운용일 2025.09.20 ~ 2026.10.10 (평가 기간 전/후로 10일의 여유기간을 두고 자료 생성)
C9: ▶ 운용일 기준
C10: 예) 7, 8, 9(휴일), 10(운용일) -> 7, 8, 9, 10일 모든 일자의 데이터 제출
B11: 4. 작성시 주의사항
C12: ▶ 소수점(.) 명기
C13: ▶ 칼럼과 칼럼 사이는 반드시 파이프( | )로 분리
C14: ▶ 숫자는 0, 문자는 문자 앞뒤로 공백(space) 없이 작성
B15: 5. 텍스트파일 작성양식
B17: No | C17: 자료명 | D17: 형식 | E17: 설명 | F17: 비고
B18: 1 | C18: 자료구분 | D18: CHAR(01) | E18: 펀드정보 : G | F18: 자료구분 반드시 입력
B19: 2 | C19: 고객사코드 | D19: CHAR(05) | E19: 한국펀드평가에서 부여한 고객사코드 : G105S | F19: G105S (반드시 입력)
B20: 3 | C20: 기준일 | D20: CHAR(08) | E20: 펀드의 평가기준일, 형식 : YYYYMMDD | F20: 기준가격 산출일(운용일), 펀드의 운용일
B21: 4 | C21: 펀드코드 | D21: CHAR(12) | E21: 펀드표준코드(12자리 표준코드) | F21: 일임인 경우 표준코드 작성방법 참고(작성이 불가한 경우에는 공란)
B22: 5 | C22: 펀드명(한글) | D22: CHAR(50) | E22: 약관/정관상의 펀드 한글명(대상펀드리스트와 동일한 이름)
B23: 6 | C23: 운용사코드 | D23: CHAR(03) | E23: 운용사 3자리코드 | F23: 금융투자협회 3자리 운용회사코드(반드시 입력)
B24: 7 | C24: 운용사펀드코드 | D24: CHAR(12) | E24: 운용사 자체부여 펀드코드 | F24: 운용사에서 관리하고 있는 펀드코드(반드시 입력)
B25: 8 | C25: 운용사명(한글) | D25: CHAR(50)
B26: 9 | C26: 펀드지원유형 | D26: CHAR(02) | E26: 지원유형 | F26: [지원유형] 일반채권형 '1', 액티브주식형 '2', 인덱스주식형 '3', 해외채권형 '4', 해외주식형 '5'
B27: 10 | C27: 설정액 | D27: NUMBER(18) | E27: 설정잔고(액)
B28: 11 | C28: 펀드 좌수 | D28: NUMBER(18) | F28: 기준일의 펀드 좌수
B29: 12 | C29: 순자산총액 | D29: NUMBER(18) | E29: 펀드NAV
B30: 13 | C30: 운용펀드 순자산총액 | D30: NUMBER(18) | E30: 클래스운용펀드NAV | F30: 종류형펀드인 경우 클래스운용펀드의 순자산총액 기재 일반펀드인 경우 해당펀드의 순자산총액 기재
B31: 14 | C31: 기준가격 | D31: NUMBER(10,4) | E31: 펀드의 기준가격
B32: 15 | C32: 누적기준가격 | D32: NUMBER(10,4) | E32: 결산이 반영되지 않는 기준가격 | F32: 설정 후 현재일까지의 누적기준가격(결산미반영)
B33: 16 | C33: BM일수익률 | D33: NUMBER(10,8) | E33: 펀드의 벤치마크(기준수익률) 일수익률 | F33: 단위 : 소수 표현 (백분율환산하지 말것 1%의 경우 0.01로 표시)
B34: 17 | C34: BM지수 | D34: NUMBER(10,4) | E34: 펀드의 벤치마크(기준수익률) 지수 | F34: 단위 : 소수점 4자리(시작시점은 반드시 최초기준가격과 동일)
B35: 18 | C35: 설정일 | D35: CHAR(08) | E35: 펀드의 최초설정일 | F35: 형식 : YYYYMMDD
B36: 19 | C36: 해지일 | D36: CHAR(08) | E36: 펀드의 해지일 | F36: 형식 : YYYYMMDD
B37: 20 | C37: 추가설정액 | D37: NUMBER(18) | E37: 전일 설정고/자본금에 당일 추가된 금액 | F37: 단위:원
B38: 21 | C38: 당일해지액 | D38: NUMBER(18) | E38: 전일 설정고/자본금에 당일 해지된 금액 | F38: 단위:원
B39: 22 | C39: 주식평가액 | D39: NUMBER(18) | E39: 기준일의 주식의 평가총액 | F39: 단위:원
B40: 23 | C40: 채권평가액 | D40: NUMBER(18) | E40: 기준일의 채권의 평가총액 | F40: 단위:원
B41: 24 | C41: 선물매수평가액 | D41: NUMBER(18) | E41: 기준일의 선물매수 평가총액 | F41: 단위:원
B42: 25 | C42: 선물매도평가액 | D42: NUMBER(18) | E42: 기준일의 선물매도 평가총액 | F42: 단위:원
...

Sheet 참고)운용사코드
B2: 운용사코드 | C2: 운용사명
B3: 101 | C3: 한국투자신탁운용
B4: 102 | C4: 하나자산운용
B5: 104 | C5: 브이아이자산운용
B6: 105 | C6: 삼성자산운용
B7: 107 | C7: 우리자산운용
B8: 203 | C8: 대신자산운용
B9: 205 | C9: 멀티에셋자산운용
B10: 206 | C10: 키움투자자산운용
B11: 207 | C11: 교보자산운용
B12: 209 | C12: 신영자산운용
B13: 210 | C13: 신한자산운용
... B541: R74 | C541: 유진리츠운용

Sheet 참고)자료작성담당자연락처
A1: 텍스트파일 작성자 연락처
A3: 운용사 코드 | B3: 운용사명 | C3: 사무관리회사명 | D3: 담당자 | E3: 연락처
A6: 운용사 담당자 연락처
A7: ※ 반드시 해당 엑셀파일을 '직접' 작성한 운용사 실무 담당자의 연락처를 정확히 기재해 주시기 바랍니다(업무 책임자가 아닌 실무자 기재).
A8: 운용사코드 | B8: 운용사명 | C8: 담당자 | D8: E-MAIL | E8: 연락처
A11: ※ 1차정량평가시 담당자컨택을 위한 정보로, 출력/제출할 필요없습니다.

Sheet 5.1차 첨부자료_표지
C3: [ 작성 및 제출요령 ]
C4: 1. | D4: 표지를 포함한 모든 Sheet를 서면으로 제출할 것
C5: 2. | D5: 반드시 파란색 음영처리된 곳만 작성할 것
C6: 3. | D6: 서면으로 제출시 기 인쇄영역으로 설정된 <제출시 인쇄영역>으로 설정된 부분에 한하여 출력하여 제출
B9: < 제출 시 인쇄 영역>
G14: 지원유형 : | H14: 해외채권형
D17: 중소기업퇴직연금기금 개별운용사 유니버스 선정을 위한
D19: 1차 첨부자료
D30: 2026. 10
D37: 회사명 :

Sheet 6.벤치마크확인서
B2: 벤치마크 확인서
B4: 지원유형 | C4: 순번 | D4: 운용사명 | E4: 운용사펀드코드 | F4: 펀드코드(표준코드) | G4: 펀드명 | H4: 설정일 | I4: 해지일 | J4: 벤치마크명
J23: 2026년도 중소기업퇴직연금기금 개별운용사 유니버스 선정을 위해
J24: 상기 펀드의 벤치마크에 대하여 사실과 일치함을 확인함.
J26: (인)
